BEGIN:VCALENDAR
VERSION:2.0
PRODID:-//wp-events-plugin.com//6.6.1//EN
BEGIN:VEVENT
UID:82@flohmarkt-marburg.de
DTSTART:20240505T090000Z
DTEND:20240505T150000Z
DTSTAMP:20240405T141837Z
URL:https://flohmarkt-marburg.de/termin/dorfflohmarkt-beltershausen-2/
SUMMARY:Dorfflohmarkt Beltershausen
DESCRIPTION:Die Dorfgemeinschaft Beltershausen veranstaltet zum dritten Mal
  eine Dorfflohmarkt im ganzen Ort.\n\nAuch für das leibliche Wohl ist ges
 orgt.\n\n
ATTACH;FMTTYPE=image/jpeg:https://flohmarkt-marburg.de/wp-content/uploads/
 2024/04/Dorfflohmarkt-Beltershausen.jpg
END:VEVENT
END:VCALENDAR